BEGIN:VCALENDAR
VERSION:2.0
PRODID:-//Holy Cross Lutheran Church - ECPv6.15.20//NONSGML v1.0//EN
CALSCALE:GREGORIAN
METHOD:PUBLISH
X-WR-CALNAME:Holy Cross Lutheran Church
X-ORIGINAL-URL:https://www.kennebunklutheran.org
X-WR-CALDESC:Events for Holy Cross Lutheran Church
REFRESH-INTERVAL;VALUE=DURATION:PT1H
X-Robots-Tag:noindex
X-PUBLISHED-TTL:PT1H
BEGIN:VTIMEZONE
TZID:America/New_York
BEGIN:DAYLIGHT
TZOFFSETFROM:-0500
TZOFFSETTO:-0400
TZNAME:EDT
DTSTART:20250309T070000
END:DAYLIGHT
BEGIN:STANDARD
TZOFFSETFROM:-0400
TZOFFSETTO:-0500
TZNAME:EST
DTSTART:20251102T060000
END:STANDARD
BEGIN:DAYLIGHT
TZOFFSETFROM:-0500
TZOFFSETTO:-0400
TZNAME:EDT
DTSTART:20260308T070000
END:DAYLIGHT
BEGIN:STANDARD
TZOFFSETFROM:-0400
TZOFFSETTO:-0500
TZNAME:EST
DTSTART:20261101T060000
END:STANDARD
BEGIN:DAYLIGHT
TZOFFSETFROM:-0500
TZOFFSETTO:-0400
TZNAME:EDT
DTSTART:20270314T070000
END:DAYLIGHT
BEGIN:STANDARD
TZOFFSETFROM:-0400
TZOFFSETTO:-0500
TZNAME:EST
DTSTART:20271107T060000
END:STANDARD
END:VTIMEZONE
BEGIN:VEVENT
DTSTART;TZID=America/New_York:20260606T103000
DTEND;TZID=America/New_York:20260606T120000
DTSTAMP:20260425T145335
CREATED:20260423T234100Z
LAST-MODIFIED:20260423T234100Z
UID:10003179-1780741800-1780747200@www.kennebunklutheran.org
SUMMARY:No Strings Attached Music Group
DESCRIPTION:
URL:https://www.kennebunklutheran.org/events/no-strings-attached-music-group-5/2026-06-06/
LOCATION:HCLC Luther Hall\, 2 Lord St Kennebunk\, ME 04043\, Kennebunk\, ME\, 04043\, United States
END:VEVENT
BEGIN:VEVENT
DTSTART;TZID=America/New_York:20260611T183000
DTEND;TZID=America/New_York:20260611T200000
DTSTAMP:20260425T145335
CREATED:20260423T234100Z
LAST-MODIFIED:20260423T234100Z
UID:10003180-1781202600-1781208000@www.kennebunklutheran.org
SUMMARY:No Strings Attached Music Group
DESCRIPTION:
URL:https://www.kennebunklutheran.org/events/no-strings-attached-music-group-5/2026-06-11/
LOCATION:HCLC Luther Hall\, 2 Lord St Kennebunk\, ME 04043\, Kennebunk\, ME\, 04043\, United States
END:VEVENT
BEGIN:VEVENT
DTSTART;TZID=America/New_York:20260620T103000
DTEND;TZID=America/New_York:20260620T120000
DTSTAMP:20260425T145335
CREATED:20260423T234100Z
LAST-MODIFIED:20260423T234100Z
UID:10003181-1781951400-1781956800@www.kennebunklutheran.org
SUMMARY:No Strings Attached Music Group
DESCRIPTION:
URL:https://www.kennebunklutheran.org/events/no-strings-attached-music-group-5/2026-06-20/
LOCATION:HCLC Luther Hall\, 2 Lord St Kennebunk\, ME 04043\, Kennebunk\, ME\, 04043\, United States
END:VEVENT
BEGIN:VEVENT
DTSTART;TZID=America/New_York:20260625T183000
DTEND;TZID=America/New_York:20260625T200000
DTSTAMP:20260425T145335
CREATED:20260423T234100Z
LAST-MODIFIED:20260423T234100Z
UID:10003182-1782412200-1782417600@www.kennebunklutheran.org
SUMMARY:No Strings Attached Music Group
DESCRIPTION:
URL:https://www.kennebunklutheran.org/events/no-strings-attached-music-group-5/2026-06-25/
LOCATION:HCLC Luther Hall\, 2 Lord St Kennebunk\, ME 04043\, Kennebunk\, ME\, 04043\, United States
END:VEVENT
END:VCALENDAR