BEGIN:VCALENDAR
VERSION:2.0
PRODID:-//Holy Cross Lutheran Church - ECPv6.15.20//NONSGML v1.0//EN
CALSCALE:GREGORIAN
METHOD:PUBLISH
X-WR-CALNAME:Holy Cross Lutheran Church
X-ORIGINAL-URL:https://www.kennebunklutheran.org
X-WR-CALDESC:Events for Holy Cross Lutheran Church
REFRESH-INTERVAL;VALUE=DURATION:PT1H
X-Robots-Tag:noindex
X-PUBLISHED-TTL:PT1H
BEGIN:VTIMEZONE
TZID:Asia/Karachi
BEGIN:STANDARD
TZOFFSETFROM:+0500
TZOFFSETTO:+0500
TZNAME:PKT
DTSTART:20290101T000000
END:STANDARD
END:VTIMEZONE
BEGIN:VTIMEZONE
TZID:UTC
BEGIN:STANDARD
TZOFFSETFROM:+0000
TZOFFSETTO:+0000
TZNAME:UTC
DTSTART:20290101T000000
END:STANDARD
END:VTIMEZONE
BEGIN:VTIMEZONE
TZID:America/New_York
BEGIN:DAYLIGHT
TZOFFSETFROM:-0500
TZOFFSETTO:-0400
TZNAME:EDT
DTSTART:20290311T070000
END:DAYLIGHT
BEGIN:STANDARD
TZOFFSETFROM:-0400
TZOFFSETTO:-0500
TZNAME:EST
DTSTART:20291104T060000
END:STANDARD
BEGIN:DAYLIGHT
TZOFFSETFROM:-0500
TZOFFSETTO:-0400
TZNAME:EDT
DTSTART:20300310T070000
END:DAYLIGHT
BEGIN:STANDARD
TZOFFSETFROM:-0400
TZOFFSETTO:-0500
TZNAME:EST
DTSTART:20301103T060000
END:STANDARD
BEGIN:DAYLIGHT
TZOFFSETFROM:-0500
TZOFFSETTO:-0400
TZNAME:EDT
DTSTART:20310309T070000
END:DAYLIGHT
BEGIN:STANDARD
TZOFFSETFROM:-0400
TZOFFSETTO:-0500
TZNAME:EST
DTSTART:20311102T060000
END:STANDARD
END:VTIMEZONE
BEGIN:VEVENT
DTSTART;TZID=Asia/Karachi:20300326T100000
DTEND;TZID=Asia/Karachi:20300326T160000
DTSTAMP:20260420T044549
CREATED:20250909T230438Z
LAST-MODIFIED:20250909T230554Z
UID:10002463-1900749600-1900771200@www.kennebunklutheran.org
SUMMARY:Quilters
DESCRIPTION:
URL:https://www.kennebunklutheran.org/events/quilters-2/2030-03-26/
LOCATION:HCLC Luther Hall\, 2 Lord St Kennebunk\, ME 04043\, Kennebunk\, ME\, 04043\, United States
END:VEVENT
BEGIN:VEVENT
DTSTART;TZID=UTC:20300328T100000
DTEND;TZID=UTC:20300328T110000
DTSTAMP:20260420T044549
CREATED:20260316T182739Z
LAST-MODIFIED:20260316T182743Z
UID:10002663-1900922400-1900926000@www.kennebunklutheran.org
SUMMARY:Bible Study
DESCRIPTION:
URL:https://www.kennebunklutheran.org/events/bible-study-2/2030-03-28/
LOCATION:HCLC Luther Hall\, 2 Lord St Kennebunk\, ME 04043\, Kennebunk\, ME\, 04043\, United States
ATTACH;FMTTYPE=image/jpeg:https://www.kennebunklutheran.org/wp-content/uploads/2026/03/Bible-Study.jpg
END:VEVENT
BEGIN:VEVENT
DTSTART;TZID=Asia/Karachi:20300331T100000
DTEND;TZID=Asia/Karachi:20300331T110000
DTSTAMP:20260420T044549
CREATED:20240501T183220Z
LAST-MODIFIED:20250909T231353Z
UID:10002596-1901181600-1901185200@www.kennebunklutheran.org
SUMMARY:Worship Service with Holy Communion
DESCRIPTION:Weekly worship service with Holy Communion. \nPlease join us for coffee hour after the service in Luther Hall.
URL:https://www.kennebunklutheran.org/events/worship-service-with-holy-communion/2030-03-31/
LOCATION:HCLC Sanctuary\, 2 Lord St\, Kennebunk\, ME\, 04043\, United States
END:VEVENT
BEGIN:VEVENT
DTSTART;TZID=America/New_York:20300331T101500
DTEND;TZID=America/New_York:20300331T104500
DTSTAMP:20260420T044549
CREATED:20260105T120442Z
LAST-MODIFIED:20260308T225709Z
UID:10002994-1901182500-1901184300@www.kennebunklutheran.org
SUMMARY:Children's Ministry
DESCRIPTION:Children’s Ministry during worship service for children ages 4-13
URL:https://www.kennebunklutheran.org/events/childrens-ministry-2/2030-03-31/
LOCATION:HCLC Luther Hall\, 2 Lord St Kennebunk\, ME 04043\, Kennebunk\, ME\, 04043\, United States
END:VEVENT
BEGIN:VEVENT
DTSTART;TZID=Asia/Karachi:20300402T100000
DTEND;TZID=Asia/Karachi:20300402T160000
DTSTAMP:20260420T044549
CREATED:20250909T230438Z
LAST-MODIFIED:20250909T230554Z
UID:10002464-1901354400-1901376000@www.kennebunklutheran.org
SUMMARY:Quilters
DESCRIPTION:
URL:https://www.kennebunklutheran.org/events/quilters-2/2030-04-02/
LOCATION:HCLC Luther Hall\, 2 Lord St Kennebunk\, ME 04043\, Kennebunk\, ME\, 04043\, United States
END:VEVENT
BEGIN:VEVENT
DTSTART;TZID=UTC:20300404T100000
DTEND;TZID=UTC:20300404T110000
DTSTAMP:20260420T044549
CREATED:20260316T182739Z
LAST-MODIFIED:20260316T182743Z
UID:10002664-1901527200-1901530800@www.kennebunklutheran.org
SUMMARY:Bible Study
DESCRIPTION:
URL:https://www.kennebunklutheran.org/events/bible-study-2/2030-04-04/
LOCATION:HCLC Luther Hall\, 2 Lord St Kennebunk\, ME 04043\, Kennebunk\, ME\, 04043\, United States
ATTACH;FMTTYPE=image/jpeg:https://www.kennebunklutheran.org/wp-content/uploads/2026/03/Bible-Study.jpg
END:VEVENT
BEGIN:VEVENT
DTSTART;TZID=Asia/Karachi:20300407T100000
DTEND;TZID=Asia/Karachi:20300407T110000
DTSTAMP:20260420T044549
CREATED:20240501T183220Z
LAST-MODIFIED:20250909T231353Z
UID:10002597-1901786400-1901790000@www.kennebunklutheran.org
SUMMARY:Worship Service with Holy Communion
DESCRIPTION:Weekly worship service with Holy Communion. \nPlease join us for coffee hour after the service in Luther Hall.
URL:https://www.kennebunklutheran.org/events/worship-service-with-holy-communion/2030-04-07/
LOCATION:HCLC Sanctuary\, 2 Lord St\, Kennebunk\, ME\, 04043\, United States
END:VEVENT
BEGIN:VEVENT
DTSTART;TZID=America/New_York:20300407T101500
DTEND;TZID=America/New_York:20300407T104500
DTSTAMP:20260420T044549
CREATED:20260105T120442Z
LAST-MODIFIED:20260308T225709Z
UID:10002995-1901787300-1901789100@www.kennebunklutheran.org
SUMMARY:Children's Ministry
DESCRIPTION:Children’s Ministry during worship service for children ages 4-13
URL:https://www.kennebunklutheran.org/events/childrens-ministry-2/2030-04-07/
LOCATION:HCLC Luther Hall\, 2 Lord St Kennebunk\, ME 04043\, Kennebunk\, ME\, 04043\, United States
END:VEVENT
BEGIN:VEVENT
DTSTART;TZID=Asia/Karachi:20300409T100000
DTEND;TZID=Asia/Karachi:20300409T160000
DTSTAMP:20260420T044549
CREATED:20250909T230438Z
LAST-MODIFIED:20250909T230554Z
UID:10002465-1901959200-1901980800@www.kennebunklutheran.org
SUMMARY:Quilters
DESCRIPTION:
URL:https://www.kennebunklutheran.org/events/quilters-2/2030-04-09/
LOCATION:HCLC Luther Hall\, 2 Lord St Kennebunk\, ME 04043\, Kennebunk\, ME\, 04043\, United States
END:VEVENT
BEGIN:VEVENT
DTSTART;TZID=UTC:20300411T100000
DTEND;TZID=UTC:20300411T110000
DTSTAMP:20260420T044549
CREATED:20260316T182739Z
LAST-MODIFIED:20260316T182743Z
UID:10002665-1902132000-1902135600@www.kennebunklutheran.org
SUMMARY:Bible Study
DESCRIPTION:
URL:https://www.kennebunklutheran.org/events/bible-study-2/2030-04-11/
LOCATION:HCLC Luther Hall\, 2 Lord St Kennebunk\, ME 04043\, Kennebunk\, ME\, 04043\, United States
ATTACH;FMTTYPE=image/jpeg:https://www.kennebunklutheran.org/wp-content/uploads/2026/03/Bible-Study.jpg
END:VEVENT
BEGIN:VEVENT
DTSTART;TZID=Asia/Karachi:20300414T100000
DTEND;TZID=Asia/Karachi:20300414T110000
DTSTAMP:20260420T044549
CREATED:20240501T183220Z
LAST-MODIFIED:20250909T231353Z
UID:10002598-1902391200-1902394800@www.kennebunklutheran.org
SUMMARY:Worship Service with Holy Communion
DESCRIPTION:Weekly worship service with Holy Communion. \nPlease join us for coffee hour after the service in Luther Hall.
URL:https://www.kennebunklutheran.org/events/worship-service-with-holy-communion/2030-04-14/
LOCATION:HCLC Sanctuary\, 2 Lord St\, Kennebunk\, ME\, 04043\, United States
END:VEVENT
BEGIN:VEVENT
DTSTART;TZID=America/New_York:20300414T101500
DTEND;TZID=America/New_York:20300414T104500
DTSTAMP:20260420T044549
CREATED:20260105T120442Z
LAST-MODIFIED:20260308T225709Z
UID:10002996-1902392100-1902393900@www.kennebunklutheran.org
SUMMARY:Children's Ministry
DESCRIPTION:Children’s Ministry during worship service for children ages 4-13
URL:https://www.kennebunklutheran.org/events/childrens-ministry-2/2030-04-14/
LOCATION:HCLC Luther Hall\, 2 Lord St Kennebunk\, ME 04043\, Kennebunk\, ME\, 04043\, United States
END:VEVENT
BEGIN:VEVENT
DTSTART;TZID=Asia/Karachi:20300416T100000
DTEND;TZID=Asia/Karachi:20300416T160000
DTSTAMP:20260420T044549
CREATED:20250909T230438Z
LAST-MODIFIED:20250909T230554Z
UID:10002466-1902564000-1902585600@www.kennebunklutheran.org
SUMMARY:Quilters
DESCRIPTION:
URL:https://www.kennebunklutheran.org/events/quilters-2/2030-04-16/
LOCATION:HCLC Luther Hall\, 2 Lord St Kennebunk\, ME 04043\, Kennebunk\, ME\, 04043\, United States
END:VEVENT
BEGIN:VEVENT
DTSTART;TZID=UTC:20300418T100000
DTEND;TZID=UTC:20300418T110000
DTSTAMP:20260420T044549
CREATED:20260316T182739Z
LAST-MODIFIED:20260316T182743Z
UID:10002666-1902736800-1902740400@www.kennebunklutheran.org
SUMMARY:Bible Study
DESCRIPTION:
URL:https://www.kennebunklutheran.org/events/bible-study-2/2030-04-18/
LOCATION:HCLC Luther Hall\, 2 Lord St Kennebunk\, ME 04043\, Kennebunk\, ME\, 04043\, United States
ATTACH;FMTTYPE=image/jpeg:https://www.kennebunklutheran.org/wp-content/uploads/2026/03/Bible-Study.jpg
END:VEVENT
BEGIN:VEVENT
DTSTART;TZID=Asia/Karachi:20300421T100000
DTEND;TZID=Asia/Karachi:20300421T110000
DTSTAMP:20260420T044549
CREATED:20240501T183220Z
LAST-MODIFIED:20250909T231353Z
UID:10002599-1902996000-1902999600@www.kennebunklutheran.org
SUMMARY:Worship Service with Holy Communion
DESCRIPTION:Weekly worship service with Holy Communion. \nPlease join us for coffee hour after the service in Luther Hall.
URL:https://www.kennebunklutheran.org/events/worship-service-with-holy-communion/2030-04-21/
LOCATION:HCLC Sanctuary\, 2 Lord St\, Kennebunk\, ME\, 04043\, United States
END:VEVENT
BEGIN:VEVENT
DTSTART;TZID=America/New_York:20300421T101500
DTEND;TZID=America/New_York:20300421T104500
DTSTAMP:20260420T044549
CREATED:20260105T120442Z
LAST-MODIFIED:20260308T225709Z
UID:10002997-1902996900-1902998700@www.kennebunklutheran.org
SUMMARY:Children's Ministry
DESCRIPTION:Children’s Ministry during worship service for children ages 4-13
URL:https://www.kennebunklutheran.org/events/childrens-ministry-2/2030-04-21/
LOCATION:HCLC Luther Hall\, 2 Lord St Kennebunk\, ME 04043\, Kennebunk\, ME\, 04043\, United States
END:VEVENT
BEGIN:VEVENT
DTSTART;TZID=Asia/Karachi:20300423T100000
DTEND;TZID=Asia/Karachi:20300423T160000
DTSTAMP:20260420T044549
CREATED:20250909T230438Z
LAST-MODIFIED:20250909T230554Z
UID:10002467-1903168800-1903190400@www.kennebunklutheran.org
SUMMARY:Quilters
DESCRIPTION:
URL:https://www.kennebunklutheran.org/events/quilters-2/2030-04-23/
LOCATION:HCLC Luther Hall\, 2 Lord St Kennebunk\, ME 04043\, Kennebunk\, ME\, 04043\, United States
END:VEVENT
BEGIN:VEVENT
DTSTART;TZID=UTC:20300425T100000
DTEND;TZID=UTC:20300425T110000
DTSTAMP:20260420T044549
CREATED:20260316T182739Z
LAST-MODIFIED:20260316T182743Z
UID:10002667-1903341600-1903345200@www.kennebunklutheran.org
SUMMARY:Bible Study
DESCRIPTION:
URL:https://www.kennebunklutheran.org/events/bible-study-2/2030-04-25/
LOCATION:HCLC Luther Hall\, 2 Lord St Kennebunk\, ME 04043\, Kennebunk\, ME\, 04043\, United States
ATTACH;FMTTYPE=image/jpeg:https://www.kennebunklutheran.org/wp-content/uploads/2026/03/Bible-Study.jpg
END:VEVENT
BEGIN:VEVENT
DTSTART;TZID=Asia/Karachi:20300428T100000
DTEND;TZID=Asia/Karachi:20300428T110000
DTSTAMP:20260420T044549
CREATED:20240501T183220Z
LAST-MODIFIED:20250909T231353Z
UID:10002600-1903600800-1903604400@www.kennebunklutheran.org
SUMMARY:Worship Service with Holy Communion
DESCRIPTION:Weekly worship service with Holy Communion. \nPlease join us for coffee hour after the service in Luther Hall.
URL:https://www.kennebunklutheran.org/events/worship-service-with-holy-communion/2030-04-28/
LOCATION:HCLC Sanctuary\, 2 Lord St\, Kennebunk\, ME\, 04043\, United States
END:VEVENT
BEGIN:VEVENT
DTSTART;TZID=America/New_York:20300428T101500
DTEND;TZID=America/New_York:20300428T104500
DTSTAMP:20260420T044549
CREATED:20260105T120442Z
LAST-MODIFIED:20260308T225709Z
UID:10002998-1903601700-1903603500@www.kennebunklutheran.org
SUMMARY:Children's Ministry
DESCRIPTION:Children’s Ministry during worship service for children ages 4-13
URL:https://www.kennebunklutheran.org/events/childrens-ministry-2/2030-04-28/
LOCATION:HCLC Luther Hall\, 2 Lord St Kennebunk\, ME 04043\, Kennebunk\, ME\, 04043\, United States
END:VEVENT
BEGIN:VEVENT
DTSTART;TZID=Asia/Karachi:20300430T100000
DTEND;TZID=Asia/Karachi:20300430T160000
DTSTAMP:20260420T044549
CREATED:20250909T230438Z
LAST-MODIFIED:20250909T230554Z
UID:10002468-1903773600-1903795200@www.kennebunklutheran.org
SUMMARY:Quilters
DESCRIPTION:
URL:https://www.kennebunklutheran.org/events/quilters-2/2030-04-30/
LOCATION:HCLC Luther Hall\, 2 Lord St Kennebunk\, ME 04043\, Kennebunk\, ME\, 04043\, United States
END:VEVENT
BEGIN:VEVENT
DTSTART;TZID=UTC:20300502T100000
DTEND;TZID=UTC:20300502T110000
DTSTAMP:20260420T044549
CREATED:20260316T182739Z
LAST-MODIFIED:20260316T182743Z
UID:10002668-1903946400-1903950000@www.kennebunklutheran.org
SUMMARY:Bible Study
DESCRIPTION:
URL:https://www.kennebunklutheran.org/events/bible-study-2/2030-05-02/
LOCATION:HCLC Luther Hall\, 2 Lord St Kennebunk\, ME 04043\, Kennebunk\, ME\, 04043\, United States
ATTACH;FMTTYPE=image/jpeg:https://www.kennebunklutheran.org/wp-content/uploads/2026/03/Bible-Study.jpg
END:VEVENT
BEGIN:VEVENT
DTSTART;TZID=Asia/Karachi:20300505T100000
DTEND;TZID=Asia/Karachi:20300505T110000
DTSTAMP:20260420T044549
CREATED:20240501T183220Z
LAST-MODIFIED:20250909T231353Z
UID:10002601-1904205600-1904209200@www.kennebunklutheran.org
SUMMARY:Worship Service with Holy Communion
DESCRIPTION:Weekly worship service with Holy Communion. \nPlease join us for coffee hour after the service in Luther Hall.
URL:https://www.kennebunklutheran.org/events/worship-service-with-holy-communion/2030-05-05/
LOCATION:HCLC Sanctuary\, 2 Lord St\, Kennebunk\, ME\, 04043\, United States
END:VEVENT
BEGIN:VEVENT
DTSTART;TZID=America/New_York:20300505T101500
DTEND;TZID=America/New_York:20300505T104500
DTSTAMP:20260420T044549
CREATED:20260105T120442Z
LAST-MODIFIED:20260308T225709Z
UID:10002999-1904206500-1904208300@www.kennebunklutheran.org
SUMMARY:Children's Ministry
DESCRIPTION:Children’s Ministry during worship service for children ages 4-13
URL:https://www.kennebunklutheran.org/events/childrens-ministry-2/2030-05-05/
LOCATION:HCLC Luther Hall\, 2 Lord St Kennebunk\, ME 04043\, Kennebunk\, ME\, 04043\, United States
END:VEVENT
BEGIN:VEVENT
DTSTART;TZID=Asia/Karachi:20300507T100000
DTEND;TZID=Asia/Karachi:20300507T160000
DTSTAMP:20260420T044549
CREATED:20250909T230438Z
LAST-MODIFIED:20250909T230554Z
UID:10002469-1904378400-1904400000@www.kennebunklutheran.org
SUMMARY:Quilters
DESCRIPTION:
URL:https://www.kennebunklutheran.org/events/quilters-2/2030-05-07/
LOCATION:HCLC Luther Hall\, 2 Lord St Kennebunk\, ME 04043\, Kennebunk\, ME\, 04043\, United States
END:VEVENT
BEGIN:VEVENT
DTSTART;TZID=UTC:20300509T100000
DTEND;TZID=UTC:20300509T110000
DTSTAMP:20260420T044549
CREATED:20260316T182739Z
LAST-MODIFIED:20260316T182743Z
UID:10002669-1904551200-1904554800@www.kennebunklutheran.org
SUMMARY:Bible Study
DESCRIPTION:
URL:https://www.kennebunklutheran.org/events/bible-study-2/2030-05-09/
LOCATION:HCLC Luther Hall\, 2 Lord St Kennebunk\, ME 04043\, Kennebunk\, ME\, 04043\, United States
ATTACH;FMTTYPE=image/jpeg:https://www.kennebunklutheran.org/wp-content/uploads/2026/03/Bible-Study.jpg
END:VEVENT
BEGIN:VEVENT
DTSTART;TZID=Asia/Karachi:20300512T100000
DTEND;TZID=Asia/Karachi:20300512T110000
DTSTAMP:20260420T044549
CREATED:20240501T183220Z
LAST-MODIFIED:20250909T231353Z
UID:10002602-1904810400-1904814000@www.kennebunklutheran.org
SUMMARY:Worship Service with Holy Communion
DESCRIPTION:Weekly worship service with Holy Communion. \nPlease join us for coffee hour after the service in Luther Hall.
URL:https://www.kennebunklutheran.org/events/worship-service-with-holy-communion/2030-05-12/
LOCATION:HCLC Sanctuary\, 2 Lord St\, Kennebunk\, ME\, 04043\, United States
END:VEVENT
BEGIN:VEVENT
DTSTART;TZID=America/New_York:20300512T101500
DTEND;TZID=America/New_York:20300512T104500
DTSTAMP:20260420T044549
CREATED:20260105T120442Z
LAST-MODIFIED:20260308T225709Z
UID:10003000-1904811300-1904813100@www.kennebunklutheran.org
SUMMARY:Children's Ministry
DESCRIPTION:Children’s Ministry during worship service for children ages 4-13
URL:https://www.kennebunklutheran.org/events/childrens-ministry-2/2030-05-12/
LOCATION:HCLC Luther Hall\, 2 Lord St Kennebunk\, ME 04043\, Kennebunk\, ME\, 04043\, United States
END:VEVENT
BEGIN:VEVENT
DTSTART;TZID=Asia/Karachi:20300514T100000
DTEND;TZID=Asia/Karachi:20300514T160000
DTSTAMP:20260420T044549
CREATED:20250909T230438Z
LAST-MODIFIED:20250909T230554Z
UID:10002470-1904983200-1905004800@www.kennebunklutheran.org
SUMMARY:Quilters
DESCRIPTION:
URL:https://www.kennebunklutheran.org/events/quilters-2/2030-05-14/
LOCATION:HCLC Luther Hall\, 2 Lord St Kennebunk\, ME 04043\, Kennebunk\, ME\, 04043\, United States
END:VEVENT
BEGIN:VEVENT
DTSTART;TZID=UTC:20300516T100000
DTEND;TZID=UTC:20300516T110000
DTSTAMP:20260420T044549
CREATED:20260316T182739Z
LAST-MODIFIED:20260316T182743Z
UID:10002670-1905156000-1905159600@www.kennebunklutheran.org
SUMMARY:Bible Study
DESCRIPTION:
URL:https://www.kennebunklutheran.org/events/bible-study-2/2030-05-16/
LOCATION:HCLC Luther Hall\, 2 Lord St Kennebunk\, ME 04043\, Kennebunk\, ME\, 04043\, United States
ATTACH;FMTTYPE=image/jpeg:https://www.kennebunklutheran.org/wp-content/uploads/2026/03/Bible-Study.jpg
END:VEVENT
END:VCALENDAR