BEGIN:VCALENDAR
VERSION:2.0
PRODID:-//Holy Cross Lutheran Church - ECPv6.15.20//NONSGML v1.0//EN
CALSCALE:GREGORIAN
METHOD:PUBLISH
X-WR-CALNAME:Holy Cross Lutheran Church
X-ORIGINAL-URL:https://www.kennebunklutheran.org
X-WR-CALDESC:Events for Holy Cross Lutheran Church
REFRESH-INTERVAL;VALUE=DURATION:PT1H
X-Robots-Tag:noindex
X-PUBLISHED-TTL:PT1H
BEGIN:VTIMEZONE
TZID:Asia/Karachi
BEGIN:STANDARD
TZOFFSETFROM:+0500
TZOFFSETTO:+0500
TZNAME:PKT
DTSTART:20290101T000000
END:STANDARD
END:VTIMEZONE
BEGIN:VTIMEZONE
TZID:UTC
BEGIN:STANDARD
TZOFFSETFROM:+0000
TZOFFSETTO:+0000
TZNAME:UTC
DTSTART:20290101T000000
END:STANDARD
END:VTIMEZONE
BEGIN:VTIMEZONE
TZID:America/New_York
BEGIN:DAYLIGHT
TZOFFSETFROM:-0500
TZOFFSETTO:-0400
TZNAME:EDT
DTSTART:20290311T070000
END:DAYLIGHT
BEGIN:STANDARD
TZOFFSETFROM:-0400
TZOFFSETTO:-0500
TZNAME:EST
DTSTART:20291104T060000
END:STANDARD
BEGIN:DAYLIGHT
TZOFFSETFROM:-0500
TZOFFSETTO:-0400
TZNAME:EDT
DTSTART:20300310T070000
END:DAYLIGHT
BEGIN:STANDARD
TZOFFSETFROM:-0400
TZOFFSETTO:-0500
TZNAME:EST
DTSTART:20301103T060000
END:STANDARD
BEGIN:DAYLIGHT
TZOFFSETFROM:-0500
TZOFFSETTO:-0400
TZNAME:EDT
DTSTART:20310309T070000
END:DAYLIGHT
BEGIN:STANDARD
TZOFFSETFROM:-0400
TZOFFSETTO:-0500
TZNAME:EST
DTSTART:20311102T060000
END:STANDARD
END:VTIMEZONE
BEGIN:VEVENT
DTSTART;TZID=Asia/Karachi:20300129T100000
DTEND;TZID=Asia/Karachi:20300129T160000
DTSTAMP:20260420T224632
CREATED:20250909T230438Z
LAST-MODIFIED:20250909T230554Z
UID:10002455-1895911200-1895932800@www.kennebunklutheran.org
SUMMARY:Quilters
DESCRIPTION:
URL:https://www.kennebunklutheran.org/events/quilters-2/2030-01-29/
LOCATION:HCLC Luther Hall\, 2 Lord St Kennebunk\, ME 04043\, Kennebunk\, ME\, 04043\, United States
END:VEVENT
BEGIN:VEVENT
DTSTART;TZID=UTC:20300131T100000
DTEND;TZID=UTC:20300131T110000
DTSTAMP:20260420T224632
CREATED:20260316T182739Z
LAST-MODIFIED:20260316T182743Z
UID:10002655-1896084000-1896087600@www.kennebunklutheran.org
SUMMARY:Bible Study
DESCRIPTION:
URL:https://www.kennebunklutheran.org/events/bible-study-2/2030-01-31/
LOCATION:HCLC Luther Hall\, 2 Lord St Kennebunk\, ME 04043\, Kennebunk\, ME\, 04043\, United States
ATTACH;FMTTYPE=image/jpeg:https://www.kennebunklutheran.org/wp-content/uploads/2026/03/Bible-Study.jpg
END:VEVENT
BEGIN:VEVENT
DTSTART;TZID=Asia/Karachi:20300203T100000
DTEND;TZID=Asia/Karachi:20300203T110000
DTSTAMP:20260420T224632
CREATED:20240501T183220Z
LAST-MODIFIED:20250909T231353Z
UID:10002588-1896343200-1896346800@www.kennebunklutheran.org
SUMMARY:Worship Service with Holy Communion
DESCRIPTION:Weekly worship service with Holy Communion. \nPlease join us for coffee hour after the service in Luther Hall.
URL:https://www.kennebunklutheran.org/events/worship-service-with-holy-communion/2030-02-03/
LOCATION:HCLC Sanctuary\, 2 Lord St\, Kennebunk\, ME\, 04043\, United States
END:VEVENT
BEGIN:VEVENT
DTSTART;TZID=America/New_York:20300203T101500
DTEND;TZID=America/New_York:20300203T104500
DTSTAMP:20260420T224632
CREATED:20260105T120442Z
LAST-MODIFIED:20260308T225709Z
UID:10002986-1896344100-1896345900@www.kennebunklutheran.org
SUMMARY:Children's Ministry
DESCRIPTION:Children’s Ministry during worship service for children ages 4-13
URL:https://www.kennebunklutheran.org/events/childrens-ministry-2/2030-02-03/
LOCATION:HCLC Luther Hall\, 2 Lord St Kennebunk\, ME 04043\, Kennebunk\, ME\, 04043\, United States
END:VEVENT
BEGIN:VEVENT
DTSTART;TZID=Asia/Karachi:20300205T100000
DTEND;TZID=Asia/Karachi:20300205T160000
DTSTAMP:20260420T224632
CREATED:20250909T230438Z
LAST-MODIFIED:20250909T230554Z
UID:10002456-1896516000-1896537600@www.kennebunklutheran.org
SUMMARY:Quilters
DESCRIPTION:
URL:https://www.kennebunklutheran.org/events/quilters-2/2030-02-05/
LOCATION:HCLC Luther Hall\, 2 Lord St Kennebunk\, ME 04043\, Kennebunk\, ME\, 04043\, United States
END:VEVENT
BEGIN:VEVENT
DTSTART;TZID=UTC:20300207T100000
DTEND;TZID=UTC:20300207T110000
DTSTAMP:20260420T224632
CREATED:20260316T182739Z
LAST-MODIFIED:20260316T182743Z
UID:10002656-1896688800-1896692400@www.kennebunklutheran.org
SUMMARY:Bible Study
DESCRIPTION:
URL:https://www.kennebunklutheran.org/events/bible-study-2/2030-02-07/
LOCATION:HCLC Luther Hall\, 2 Lord St Kennebunk\, ME 04043\, Kennebunk\, ME\, 04043\, United States
ATTACH;FMTTYPE=image/jpeg:https://www.kennebunklutheran.org/wp-content/uploads/2026/03/Bible-Study.jpg
END:VEVENT
BEGIN:VEVENT
DTSTART;TZID=Asia/Karachi:20300210T100000
DTEND;TZID=Asia/Karachi:20300210T110000
DTSTAMP:20260420T224632
CREATED:20240501T183220Z
LAST-MODIFIED:20250909T231353Z
UID:10002589-1896948000-1896951600@www.kennebunklutheran.org
SUMMARY:Worship Service with Holy Communion
DESCRIPTION:Weekly worship service with Holy Communion. \nPlease join us for coffee hour after the service in Luther Hall.
URL:https://www.kennebunklutheran.org/events/worship-service-with-holy-communion/2030-02-10/
LOCATION:HCLC Sanctuary\, 2 Lord St\, Kennebunk\, ME\, 04043\, United States
END:VEVENT
BEGIN:VEVENT
DTSTART;TZID=America/New_York:20300210T101500
DTEND;TZID=America/New_York:20300210T104500
DTSTAMP:20260420T224632
CREATED:20260105T120442Z
LAST-MODIFIED:20260308T225709Z
UID:10002987-1896948900-1896950700@www.kennebunklutheran.org
SUMMARY:Children's Ministry
DESCRIPTION:Children’s Ministry during worship service for children ages 4-13
URL:https://www.kennebunklutheran.org/events/childrens-ministry-2/2030-02-10/
LOCATION:HCLC Luther Hall\, 2 Lord St Kennebunk\, ME 04043\, Kennebunk\, ME\, 04043\, United States
END:VEVENT
BEGIN:VEVENT
DTSTART;TZID=Asia/Karachi:20300212T100000
DTEND;TZID=Asia/Karachi:20300212T160000
DTSTAMP:20260420T224632
CREATED:20250909T230438Z
LAST-MODIFIED:20250909T230554Z
UID:10002457-1897120800-1897142400@www.kennebunklutheran.org
SUMMARY:Quilters
DESCRIPTION:
URL:https://www.kennebunklutheran.org/events/quilters-2/2030-02-12/
LOCATION:HCLC Luther Hall\, 2 Lord St Kennebunk\, ME 04043\, Kennebunk\, ME\, 04043\, United States
END:VEVENT
BEGIN:VEVENT
DTSTART;TZID=UTC:20300214T100000
DTEND;TZID=UTC:20300214T110000
DTSTAMP:20260420T224632
CREATED:20260316T182739Z
LAST-MODIFIED:20260316T182743Z
UID:10002657-1897293600-1897297200@www.kennebunklutheran.org
SUMMARY:Bible Study
DESCRIPTION:
URL:https://www.kennebunklutheran.org/events/bible-study-2/2030-02-14/
LOCATION:HCLC Luther Hall\, 2 Lord St Kennebunk\, ME 04043\, Kennebunk\, ME\, 04043\, United States
ATTACH;FMTTYPE=image/jpeg:https://www.kennebunklutheran.org/wp-content/uploads/2026/03/Bible-Study.jpg
END:VEVENT
BEGIN:VEVENT
DTSTART;TZID=Asia/Karachi:20300217T100000
DTEND;TZID=Asia/Karachi:20300217T110000
DTSTAMP:20260420T224632
CREATED:20240501T183220Z
LAST-MODIFIED:20250909T231353Z
UID:10002590-1897552800-1897556400@www.kennebunklutheran.org
SUMMARY:Worship Service with Holy Communion
DESCRIPTION:Weekly worship service with Holy Communion. \nPlease join us for coffee hour after the service in Luther Hall.
URL:https://www.kennebunklutheran.org/events/worship-service-with-holy-communion/2030-02-17/
LOCATION:HCLC Sanctuary\, 2 Lord St\, Kennebunk\, ME\, 04043\, United States
END:VEVENT
BEGIN:VEVENT
DTSTART;TZID=America/New_York:20300217T101500
DTEND;TZID=America/New_York:20300217T104500
DTSTAMP:20260420T224632
CREATED:20260105T120442Z
LAST-MODIFIED:20260308T225709Z
UID:10002988-1897553700-1897555500@www.kennebunklutheran.org
SUMMARY:Children's Ministry
DESCRIPTION:Children’s Ministry during worship service for children ages 4-13
URL:https://www.kennebunklutheran.org/events/childrens-ministry-2/2030-02-17/
LOCATION:HCLC Luther Hall\, 2 Lord St Kennebunk\, ME 04043\, Kennebunk\, ME\, 04043\, United States
END:VEVENT
BEGIN:VEVENT
DTSTART;TZID=Asia/Karachi:20300219T100000
DTEND;TZID=Asia/Karachi:20300219T160000
DTSTAMP:20260420T224632
CREATED:20250909T230438Z
LAST-MODIFIED:20250909T230554Z
UID:10002458-1897725600-1897747200@www.kennebunklutheran.org
SUMMARY:Quilters
DESCRIPTION:
URL:https://www.kennebunklutheran.org/events/quilters-2/2030-02-19/
LOCATION:HCLC Luther Hall\, 2 Lord St Kennebunk\, ME 04043\, Kennebunk\, ME\, 04043\, United States
END:VEVENT
BEGIN:VEVENT
DTSTART;TZID=UTC:20300221T100000
DTEND;TZID=UTC:20300221T110000
DTSTAMP:20260420T224632
CREATED:20260316T182739Z
LAST-MODIFIED:20260316T182743Z
UID:10002658-1897898400-1897902000@www.kennebunklutheran.org
SUMMARY:Bible Study
DESCRIPTION:
URL:https://www.kennebunklutheran.org/events/bible-study-2/2030-02-21/
LOCATION:HCLC Luther Hall\, 2 Lord St Kennebunk\, ME 04043\, Kennebunk\, ME\, 04043\, United States
ATTACH;FMTTYPE=image/jpeg:https://www.kennebunklutheran.org/wp-content/uploads/2026/03/Bible-Study.jpg
END:VEVENT
BEGIN:VEVENT
DTSTART;TZID=Asia/Karachi:20300224T100000
DTEND;TZID=Asia/Karachi:20300224T110000
DTSTAMP:20260420T224632
CREATED:20240501T183220Z
LAST-MODIFIED:20250909T231353Z
UID:10002591-1898157600-1898161200@www.kennebunklutheran.org
SUMMARY:Worship Service with Holy Communion
DESCRIPTION:Weekly worship service with Holy Communion. \nPlease join us for coffee hour after the service in Luther Hall.
URL:https://www.kennebunklutheran.org/events/worship-service-with-holy-communion/2030-02-24/
LOCATION:HCLC Sanctuary\, 2 Lord St\, Kennebunk\, ME\, 04043\, United States
END:VEVENT
BEGIN:VEVENT
DTSTART;TZID=America/New_York:20300224T101500
DTEND;TZID=America/New_York:20300224T104500
DTSTAMP:20260420T224632
CREATED:20260105T120442Z
LAST-MODIFIED:20260308T225709Z
UID:10002989-1898158500-1898160300@www.kennebunklutheran.org
SUMMARY:Children's Ministry
DESCRIPTION:Children’s Ministry during worship service for children ages 4-13
URL:https://www.kennebunklutheran.org/events/childrens-ministry-2/2030-02-24/
LOCATION:HCLC Luther Hall\, 2 Lord St Kennebunk\, ME 04043\, Kennebunk\, ME\, 04043\, United States
END:VEVENT
BEGIN:VEVENT
DTSTART;TZID=Asia/Karachi:20300226T100000
DTEND;TZID=Asia/Karachi:20300226T160000
DTSTAMP:20260420T224632
CREATED:20250909T230438Z
LAST-MODIFIED:20250909T230554Z
UID:10002459-1898330400-1898352000@www.kennebunklutheran.org
SUMMARY:Quilters
DESCRIPTION:
URL:https://www.kennebunklutheran.org/events/quilters-2/2030-02-26/
LOCATION:HCLC Luther Hall\, 2 Lord St Kennebunk\, ME 04043\, Kennebunk\, ME\, 04043\, United States
END:VEVENT
BEGIN:VEVENT
DTSTART;TZID=UTC:20300228T100000
DTEND;TZID=UTC:20300228T110000
DTSTAMP:20260420T224632
CREATED:20260316T182739Z
LAST-MODIFIED:20260316T182743Z
UID:10002659-1898503200-1898506800@www.kennebunklutheran.org
SUMMARY:Bible Study
DESCRIPTION:
URL:https://www.kennebunklutheran.org/events/bible-study-2/2030-02-28/
LOCATION:HCLC Luther Hall\, 2 Lord St Kennebunk\, ME 04043\, Kennebunk\, ME\, 04043\, United States
ATTACH;FMTTYPE=image/jpeg:https://www.kennebunklutheran.org/wp-content/uploads/2026/03/Bible-Study.jpg
END:VEVENT
BEGIN:VEVENT
DTSTART;TZID=Asia/Karachi:20300303T100000
DTEND;TZID=Asia/Karachi:20300303T110000
DTSTAMP:20260420T224632
CREATED:20240501T183220Z
LAST-MODIFIED:20250909T231353Z
UID:10002592-1898762400-1898766000@www.kennebunklutheran.org
SUMMARY:Worship Service with Holy Communion
DESCRIPTION:Weekly worship service with Holy Communion. \nPlease join us for coffee hour after the service in Luther Hall.
URL:https://www.kennebunklutheran.org/events/worship-service-with-holy-communion/2030-03-03/
LOCATION:HCLC Sanctuary\, 2 Lord St\, Kennebunk\, ME\, 04043\, United States
END:VEVENT
BEGIN:VEVENT
DTSTART;TZID=America/New_York:20300303T101500
DTEND;TZID=America/New_York:20300303T104500
DTSTAMP:20260420T224632
CREATED:20260105T120442Z
LAST-MODIFIED:20260308T225709Z
UID:10002990-1898763300-1898765100@www.kennebunklutheran.org
SUMMARY:Children's Ministry
DESCRIPTION:Children’s Ministry during worship service for children ages 4-13
URL:https://www.kennebunklutheran.org/events/childrens-ministry-2/2030-03-03/
LOCATION:HCLC Luther Hall\, 2 Lord St Kennebunk\, ME 04043\, Kennebunk\, ME\, 04043\, United States
END:VEVENT
BEGIN:VEVENT
DTSTART;TZID=Asia/Karachi:20300305T100000
DTEND;TZID=Asia/Karachi:20300305T160000
DTSTAMP:20260420T224632
CREATED:20250909T230438Z
LAST-MODIFIED:20250909T230554Z
UID:10002460-1898935200-1898956800@www.kennebunklutheran.org
SUMMARY:Quilters
DESCRIPTION:
URL:https://www.kennebunklutheran.org/events/quilters-2/2030-03-05/
LOCATION:HCLC Luther Hall\, 2 Lord St Kennebunk\, ME 04043\, Kennebunk\, ME\, 04043\, United States
END:VEVENT
BEGIN:VEVENT
DTSTART;TZID=UTC:20300307T100000
DTEND;TZID=UTC:20300307T110000
DTSTAMP:20260420T224632
CREATED:20260316T182739Z
LAST-MODIFIED:20260316T182743Z
UID:10002660-1899108000-1899111600@www.kennebunklutheran.org
SUMMARY:Bible Study
DESCRIPTION:
URL:https://www.kennebunklutheran.org/events/bible-study-2/2030-03-07/
LOCATION:HCLC Luther Hall\, 2 Lord St Kennebunk\, ME 04043\, Kennebunk\, ME\, 04043\, United States
ATTACH;FMTTYPE=image/jpeg:https://www.kennebunklutheran.org/wp-content/uploads/2026/03/Bible-Study.jpg
END:VEVENT
BEGIN:VEVENT
DTSTART;TZID=Asia/Karachi:20300310T100000
DTEND;TZID=Asia/Karachi:20300310T110000
DTSTAMP:20260420T224632
CREATED:20240501T183220Z
LAST-MODIFIED:20250909T231353Z
UID:10002593-1899367200-1899370800@www.kennebunklutheran.org
SUMMARY:Worship Service with Holy Communion
DESCRIPTION:Weekly worship service with Holy Communion. \nPlease join us for coffee hour after the service in Luther Hall.
URL:https://www.kennebunklutheran.org/events/worship-service-with-holy-communion/2030-03-10/
LOCATION:HCLC Sanctuary\, 2 Lord St\, Kennebunk\, ME\, 04043\, United States
END:VEVENT
BEGIN:VEVENT
DTSTART;TZID=America/New_York:20300310T101500
DTEND;TZID=America/New_York:20300310T104500
DTSTAMP:20260420T224632
CREATED:20260105T120442Z
LAST-MODIFIED:20260308T225709Z
UID:10002991-1899368100-1899369900@www.kennebunklutheran.org
SUMMARY:Children's Ministry
DESCRIPTION:Children’s Ministry during worship service for children ages 4-13
URL:https://www.kennebunklutheran.org/events/childrens-ministry-2/2030-03-10/
LOCATION:HCLC Luther Hall\, 2 Lord St Kennebunk\, ME 04043\, Kennebunk\, ME\, 04043\, United States
END:VEVENT
BEGIN:VEVENT
DTSTART;TZID=Asia/Karachi:20300312T100000
DTEND;TZID=Asia/Karachi:20300312T160000
DTSTAMP:20260420T224632
CREATED:20250909T230438Z
LAST-MODIFIED:20250909T230554Z
UID:10002461-1899540000-1899561600@www.kennebunklutheran.org
SUMMARY:Quilters
DESCRIPTION:
URL:https://www.kennebunklutheran.org/events/quilters-2/2030-03-12/
LOCATION:HCLC Luther Hall\, 2 Lord St Kennebunk\, ME 04043\, Kennebunk\, ME\, 04043\, United States
END:VEVENT
BEGIN:VEVENT
DTSTART;TZID=UTC:20300314T100000
DTEND;TZID=UTC:20300314T110000
DTSTAMP:20260420T224632
CREATED:20260316T182739Z
LAST-MODIFIED:20260316T182743Z
UID:10002661-1899712800-1899716400@www.kennebunklutheran.org
SUMMARY:Bible Study
DESCRIPTION:
URL:https://www.kennebunklutheran.org/events/bible-study-2/2030-03-14/
LOCATION:HCLC Luther Hall\, 2 Lord St Kennebunk\, ME 04043\, Kennebunk\, ME\, 04043\, United States
ATTACH;FMTTYPE=image/jpeg:https://www.kennebunklutheran.org/wp-content/uploads/2026/03/Bible-Study.jpg
END:VEVENT
BEGIN:VEVENT
DTSTART;TZID=Asia/Karachi:20300317T100000
DTEND;TZID=Asia/Karachi:20300317T110000
DTSTAMP:20260420T224632
CREATED:20240501T183220Z
LAST-MODIFIED:20250909T231353Z
UID:10002594-1899972000-1899975600@www.kennebunklutheran.org
SUMMARY:Worship Service with Holy Communion
DESCRIPTION:Weekly worship service with Holy Communion. \nPlease join us for coffee hour after the service in Luther Hall.
URL:https://www.kennebunklutheran.org/events/worship-service-with-holy-communion/2030-03-17/
LOCATION:HCLC Sanctuary\, 2 Lord St\, Kennebunk\, ME\, 04043\, United States
END:VEVENT
BEGIN:VEVENT
DTSTART;TZID=America/New_York:20300317T101500
DTEND;TZID=America/New_York:20300317T104500
DTSTAMP:20260420T224632
CREATED:20260105T120442Z
LAST-MODIFIED:20260308T225709Z
UID:10002992-1899972900-1899974700@www.kennebunklutheran.org
SUMMARY:Children's Ministry
DESCRIPTION:Children’s Ministry during worship service for children ages 4-13
URL:https://www.kennebunklutheran.org/events/childrens-ministry-2/2030-03-17/
LOCATION:HCLC Luther Hall\, 2 Lord St Kennebunk\, ME 04043\, Kennebunk\, ME\, 04043\, United States
END:VEVENT
BEGIN:VEVENT
DTSTART;TZID=Asia/Karachi:20300319T100000
DTEND;TZID=Asia/Karachi:20300319T160000
DTSTAMP:20260420T224632
CREATED:20250909T230438Z
LAST-MODIFIED:20250909T230554Z
UID:10002462-1900144800-1900166400@www.kennebunklutheran.org
SUMMARY:Quilters
DESCRIPTION:
URL:https://www.kennebunklutheran.org/events/quilters-2/2030-03-19/
LOCATION:HCLC Luther Hall\, 2 Lord St Kennebunk\, ME 04043\, Kennebunk\, ME\, 04043\, United States
END:VEVENT
BEGIN:VEVENT
DTSTART;TZID=UTC:20300321T100000
DTEND;TZID=UTC:20300321T110000
DTSTAMP:20260420T224632
CREATED:20260316T182739Z
LAST-MODIFIED:20260316T182743Z
UID:10002662-1900317600-1900321200@www.kennebunklutheran.org
SUMMARY:Bible Study
DESCRIPTION:
URL:https://www.kennebunklutheran.org/events/bible-study-2/2030-03-21/
LOCATION:HCLC Luther Hall\, 2 Lord St Kennebunk\, ME 04043\, Kennebunk\, ME\, 04043\, United States
ATTACH;FMTTYPE=image/jpeg:https://www.kennebunklutheran.org/wp-content/uploads/2026/03/Bible-Study.jpg
END:VEVENT
END:VCALENDAR