BEGIN:VCALENDAR
VERSION:2.0
PRODID:-//Holy Cross Lutheran Church - ECPv6.15.20//NONSGML v1.0//EN
CALSCALE:GREGORIAN
METHOD:PUBLISH
X-WR-CALNAME:Holy Cross Lutheran Church
X-ORIGINAL-URL:https://www.kennebunklutheran.org
X-WR-CALDESC:Events for Holy Cross Lutheran Church
REFRESH-INTERVAL;VALUE=DURATION:PT1H
X-Robots-Tag:noindex
X-PUBLISHED-TTL:PT1H
BEGIN:VTIMEZONE
TZID:America/New_York
BEGIN:DAYLIGHT
TZOFFSETFROM:-0500
TZOFFSETTO:-0400
TZNAME:EDT
DTSTART:20250309T070000
END:DAYLIGHT
BEGIN:STANDARD
TZOFFSETFROM:-0400
TZOFFSETTO:-0500
TZNAME:EST
DTSTART:20251102T060000
END:STANDARD
BEGIN:DAYLIGHT
TZOFFSETFROM:-0500
TZOFFSETTO:-0400
TZNAME:EDT
DTSTART:20260308T070000
END:DAYLIGHT
BEGIN:STANDARD
TZOFFSETFROM:-0400
TZOFFSETTO:-0500
TZNAME:EST
DTSTART:20261101T060000
END:STANDARD
BEGIN:DAYLIGHT
TZOFFSETFROM:-0500
TZOFFSETTO:-0400
TZNAME:EDT
DTSTART:20270314T070000
END:DAYLIGHT
BEGIN:STANDARD
TZOFFSETFROM:-0400
TZOFFSETTO:-0500
TZNAME:EST
DTSTART:20271107T060000
END:STANDARD
END:VTIMEZONE
BEGIN:VTIMEZONE
TZID:Asia/Karachi
BEGIN:STANDARD
TZOFFSETFROM:+0500
TZOFFSETTO:+0500
TZNAME:PKT
DTSTART:20250101T000000
END:STANDARD
END:VTIMEZONE
BEGIN:VTIMEZONE
TZID:UTC
BEGIN:STANDARD
TZOFFSETFROM:+0000
TZOFFSETTO:+0000
TZNAME:UTC
DTSTART:20250101T000000
END:STANDARD
END:VTIMEZONE
BEGIN:VEVENT
DTSTART;TZID=America/New_York:20260517T101500
DTEND;TZID=America/New_York:20260517T104500
DTSTAMP:20260420T220659
CREATED:20260105T120442Z
LAST-MODIFIED:20260308T225709Z
UID:10002792-1779012900-1779014700@www.kennebunklutheran.org
SUMMARY:Children's Ministry
DESCRIPTION:Children’s Ministry during worship service for children ages 4-13
URL:https://www.kennebunklutheran.org/events/childrens-ministry-2/2026-05-17/
LOCATION:HCLC Luther Hall\, 2 Lord St Kennebunk\, ME 04043\, Kennebunk\, ME\, 04043\, United States
END:VEVENT
BEGIN:VEVENT
DTSTART;TZID=Asia/Karachi:20260517T100000
DTEND;TZID=Asia/Karachi:20260517T110000
DTSTAMP:20260420T220659
CREATED:20240501T183220Z
LAST-MODIFIED:20250909T231353Z
UID:10000182-1779012000-1779015600@www.kennebunklutheran.org
SUMMARY:Worship Service with Holy Communion
DESCRIPTION:Weekly worship service with Holy Communion. \nPlease join us for coffee hour after the service in Luther Hall.
URL:https://www.kennebunklutheran.org/events/worship-service-with-holy-communion/2026-05-17/
LOCATION:HCLC Sanctuary\, 2 Lord St\, Kennebunk\, ME\, 04043\, United States
END:VEVENT
BEGIN:VEVENT
DTSTART;TZID=Asia/Karachi:20260516T103000
DTEND;TZID=Asia/Karachi:20260516T120000
DTSTAMP:20260420T220659
CREATED:20240521T105641Z
LAST-MODIFIED:20260421T001750Z
UID:10003169-1778927400-1778932800@www.kennebunklutheran.org
SUMMARY:No Strings Attached Music Group
DESCRIPTION:
URL:https://www.kennebunklutheran.org/events/no-strings-attached-music-group-4/2026-05-16/
LOCATION:HCLC Luther Hall\, 2 Lord St Kennebunk\, ME 04043\, Kennebunk\, ME\, 04043\, United States
END:VEVENT
BEGIN:VEVENT
DTSTART;TZID=UTC:20260514T100000
DTEND;TZID=UTC:20260514T110000
DTSTAMP:20260420T220659
CREATED:20260316T182739Z
LAST-MODIFIED:20260316T182743Z
UID:10001487-1778752800-1778756400@www.kennebunklutheran.org
SUMMARY:Bible Study
DESCRIPTION:
URL:https://www.kennebunklutheran.org/events/bible-study-2/2026-05-14/
LOCATION:HCLC Luther Hall\, 2 Lord St Kennebunk\, ME 04043\, Kennebunk\, ME\, 04043\, United States
ATTACH;FMTTYPE=image/jpeg:https://www.kennebunklutheran.org/wp-content/uploads/2026/03/Bible-Study.jpg
END:VEVENT
BEGIN:VEVENT
DTSTART;TZID=Asia/Karachi:20260512T190000
DTEND;TZID=Asia/Karachi:20260512T210000
DTSTAMP:20260420T220659
CREATED:20250908T000934Z
LAST-MODIFIED:20250908T001443Z
UID:10002511-1778612400-1778619600@www.kennebunklutheran.org
SUMMARY:Church Council Meeting
DESCRIPTION:Monthly Church Council meeting
URL:https://www.kennebunklutheran.org/events/church-council-meeting-2-2/2026-05-12/
LOCATION:HCLC Luther Hall\, 2 Lord St Kennebunk\, ME 04043\, Kennebunk\, ME\, 04043\, United States
END:VEVENT
BEGIN:VEVENT
DTSTART;TZID=Asia/Karachi:20260512T100000
DTEND;TZID=Asia/Karachi:20260512T160000
DTSTAMP:20260420T220659
CREATED:20250909T230438Z
LAST-MODIFIED:20250909T230554Z
UID:10002008-1778580000-1778601600@www.kennebunklutheran.org
SUMMARY:Quilters
DESCRIPTION:
URL:https://www.kennebunklutheran.org/events/quilters-2/2026-05-12/
LOCATION:HCLC Luther Hall\, 2 Lord St Kennebunk\, ME 04043\, Kennebunk\, ME\, 04043\, United States
END:VEVENT
BEGIN:VEVENT
DTSTART;TZID=Asia/Karachi:20260511T190000
DTEND;TZID=Asia/Karachi:20260511T210000
DTSTAMP:20260420T220659
CREATED:20250909T113719Z
LAST-MODIFIED:20250909T113853Z
UID:10000442-1778526000-1778533200@www.kennebunklutheran.org
SUMMARY:Scouts
DESCRIPTION:
URL:https://www.kennebunklutheran.org/events/scouts-2/2026-05-11/
LOCATION:HCLC Luther Hall\, 2 Lord St Kennebunk\, ME 04043\, Kennebunk\, ME\, 04043\, United States
END:VEVENT
BEGIN:VEVENT
DTSTART;TZID=America/New_York:20260510T101500
DTEND;TZID=America/New_York:20260510T104500
DTSTAMP:20260420T220659
CREATED:20260105T120442Z
LAST-MODIFIED:20260308T225709Z
UID:10002791-1778408100-1778409900@www.kennebunklutheran.org
SUMMARY:Children's Ministry
DESCRIPTION:Children’s Ministry during worship service for children ages 4-13
URL:https://www.kennebunklutheran.org/events/childrens-ministry-2/2026-05-10/
LOCATION:HCLC Luther Hall\, 2 Lord St Kennebunk\, ME 04043\, Kennebunk\, ME\, 04043\, United States
END:VEVENT
BEGIN:VEVENT
DTSTART;TZID=Asia/Karachi:20260510T100000
DTEND;TZID=Asia/Karachi:20260510T110000
DTSTAMP:20260420T220659
CREATED:20240501T183220Z
LAST-MODIFIED:20250909T231353Z
UID:10000181-1778407200-1778410800@www.kennebunklutheran.org
SUMMARY:Worship Service with Holy Communion
DESCRIPTION:Weekly worship service with Holy Communion. \nPlease join us for coffee hour after the service in Luther Hall.
URL:https://www.kennebunklutheran.org/events/worship-service-with-holy-communion/2026-05-10/
LOCATION:HCLC Sanctuary\, 2 Lord St\, Kennebunk\, ME\, 04043\, United States
END:VEVENT
BEGIN:VEVENT
DTSTART;TZID=Asia/Karachi:20260507T183000
DTEND;TZID=Asia/Karachi:20260507T200000
DTSTAMP:20260420T220659
CREATED:20240521T105641Z
LAST-MODIFIED:20260421T001750Z
UID:10003168-1778178600-1778184000@www.kennebunklutheran.org
SUMMARY:No Strings Attached Music Group
DESCRIPTION:
URL:https://www.kennebunklutheran.org/events/no-strings-attached-music-group-4/2026-05-07/
LOCATION:HCLC Luther Hall\, 2 Lord St Kennebunk\, ME 04043\, Kennebunk\, ME\, 04043\, United States
END:VEVENT
BEGIN:VEVENT
DTSTART;TZID=America/New_York:20260507T150000
DTEND;TZID=America/New_York:20260507T170000
DTSTAMP:20260420T220659
CREATED:20250615T231004Z
LAST-MODIFIED:20260421T002357Z
UID:10003173-1778166000-1778173200@www.kennebunklutheran.org
SUMMARY:Coastal Winds Rehearsal
DESCRIPTION:
URL:https://www.kennebunklutheran.org/events/coastal-winds-rehearsal/2026-05-07/
LOCATION:HCLC Luther Hall\, 2 Lord St Kennebunk\, ME 04043\, Kennebunk\, ME\, 04043\, United States
END:VEVENT
BEGIN:VEVENT
DTSTART;TZID=UTC:20260507T100000
DTEND;TZID=UTC:20260507T110000
DTSTAMP:20260420T220659
CREATED:20260316T182739Z
LAST-MODIFIED:20260316T182743Z
UID:10001486-1778148000-1778151600@www.kennebunklutheran.org
SUMMARY:Bible Study
DESCRIPTION:
URL:https://www.kennebunklutheran.org/events/bible-study-2/2026-05-07/
LOCATION:HCLC Luther Hall\, 2 Lord St Kennebunk\, ME 04043\, Kennebunk\, ME\, 04043\, United States
ATTACH;FMTTYPE=image/jpeg:https://www.kennebunklutheran.org/wp-content/uploads/2026/03/Bible-Study.jpg
END:VEVENT
BEGIN:VEVENT
DTSTART;TZID=America/New_York:20260506T190000
DTEND;TZID=America/New_York:20260506T210000
DTSTAMP:20260420T220659
CREATED:20250909T112753Z
LAST-MODIFIED:20250909T230800Z
UID:10002528-1778094000-1778101200@www.kennebunklutheran.org
SUMMARY:Cub Scouts (1st Wed)
DESCRIPTION:
URL:https://www.kennebunklutheran.org/events/cub-scouts/2026-05-06/
LOCATION:HCLC Luther Hall\, 2 Lord St Kennebunk\, ME 04043\, Kennebunk\, ME\, 04043\, United States
END:VEVENT
BEGIN:VEVENT
DTSTART;TZID=Asia/Karachi:20260505T100000
DTEND;TZID=Asia/Karachi:20260505T160000
DTSTAMP:20260420T220659
CREATED:20250909T230438Z
LAST-MODIFIED:20250909T230554Z
UID:10002007-1777975200-1777996800@www.kennebunklutheran.org
SUMMARY:Quilters
DESCRIPTION:
URL:https://www.kennebunklutheran.org/events/quilters-2/2026-05-05/
LOCATION:HCLC Luther Hall\, 2 Lord St Kennebunk\, ME 04043\, Kennebunk\, ME\, 04043\, United States
END:VEVENT
BEGIN:VEVENT
DTSTART;TZID=Asia/Karachi:20260504T190000
DTEND;TZID=Asia/Karachi:20260504T210000
DTSTAMP:20260420T220659
CREATED:20250909T113719Z
LAST-MODIFIED:20250909T113853Z
UID:10000441-1777921200-1777928400@www.kennebunklutheran.org
SUMMARY:Scouts
DESCRIPTION:
URL:https://www.kennebunklutheran.org/events/scouts-2/2026-05-04/
LOCATION:HCLC Luther Hall\, 2 Lord St Kennebunk\, ME 04043\, Kennebunk\, ME\, 04043\, United States
END:VEVENT
BEGIN:VEVENT
DTSTART;TZID=America/New_York:20260503T110000
DTEND;TZID=America/New_York:20260503T120000
DTSTAMP:20260420T220659
CREATED:20260421T001303Z
LAST-MODIFIED:20260421T001303Z
UID:10003166-1777806000-1777809600@www.kennebunklutheran.org
SUMMARY:Committee Fair
DESCRIPTION:
URL:https://www.kennebunklutheran.org/events/committee-fair/
LOCATION:HCLC Luther Hall\, 2 Lord St Kennebunk\, ME 04043\, Kennebunk\, ME\, 04043\, United States
END:VEVENT
BEGIN:VEVENT
DTSTART;TZID=America/New_York:20260503T101500
DTEND;TZID=America/New_York:20260503T104500
DTSTAMP:20260420T220659
CREATED:20260105T120442Z
LAST-MODIFIED:20260308T225709Z
UID:10002790-1777803300-1777805100@www.kennebunklutheran.org
SUMMARY:Children's Ministry
DESCRIPTION:Children’s Ministry during worship service for children ages 4-13
URL:https://www.kennebunklutheran.org/events/childrens-ministry-2/2026-05-03/
LOCATION:HCLC Luther Hall\, 2 Lord St Kennebunk\, ME 04043\, Kennebunk\, ME\, 04043\, United States
END:VEVENT
BEGIN:VEVENT
DTSTART;TZID=Asia/Karachi:20260503T100000
DTEND;TZID=Asia/Karachi:20260503T110000
DTSTAMP:20260420T220659
CREATED:20240501T183220Z
LAST-MODIFIED:20250909T231353Z
UID:10000180-1777802400-1777806000@www.kennebunklutheran.org
SUMMARY:Worship Service with Holy Communion
DESCRIPTION:Weekly worship service with Holy Communion. \nPlease join us for coffee hour after the service in Luther Hall.
URL:https://www.kennebunklutheran.org/events/worship-service-with-holy-communion/2026-05-03/
LOCATION:HCLC Sanctuary\, 2 Lord St\, Kennebunk\, ME\, 04043\, United States
END:VEVENT
BEGIN:VEVENT
DTSTART;TZID=UTC:20260430T100000
DTEND;TZID=UTC:20260430T110000
DTSTAMP:20260420T220659
CREATED:20260316T182739Z
LAST-MODIFIED:20260316T182743Z
UID:10001485-1777543200-1777546800@www.kennebunklutheran.org
SUMMARY:Bible Study
DESCRIPTION:
URL:https://www.kennebunklutheran.org/events/bible-study-2/2026-04-30/
LOCATION:HCLC Luther Hall\, 2 Lord St Kennebunk\, ME 04043\, Kennebunk\, ME\, 04043\, United States
ATTACH;FMTTYPE=image/jpeg:https://www.kennebunklutheran.org/wp-content/uploads/2026/03/Bible-Study.jpg
END:VEVENT
BEGIN:VEVENT
DTSTART;TZID=Asia/Karachi:20260428T100000
DTEND;TZID=Asia/Karachi:20260428T160000
DTSTAMP:20260420T220659
CREATED:20250909T230438Z
LAST-MODIFIED:20250909T230554Z
UID:10002006-1777370400-1777392000@www.kennebunklutheran.org
SUMMARY:Quilters
DESCRIPTION:
URL:https://www.kennebunklutheran.org/events/quilters-2/2026-04-28/
LOCATION:HCLC Luther Hall\, 2 Lord St Kennebunk\, ME 04043\, Kennebunk\, ME\, 04043\, United States
END:VEVENT
BEGIN:VEVENT
DTSTART;TZID=Asia/Karachi:20260427T190000
DTEND;TZID=Asia/Karachi:20260427T210000
DTSTAMP:20260420T220659
CREATED:20250909T113719Z
LAST-MODIFIED:20250909T113853Z
UID:10000440-1777316400-1777323600@www.kennebunklutheran.org
SUMMARY:Scouts
DESCRIPTION:
URL:https://www.kennebunklutheran.org/events/scouts-2/2026-04-27/
LOCATION:HCLC Luther Hall\, 2 Lord St Kennebunk\, ME 04043\, Kennebunk\, ME\, 04043\, United States
END:VEVENT
BEGIN:VEVENT
DTSTART;TZID=America/New_York:20260427T174500
DTEND;TZID=America/New_York:20260427T190000
DTSTAMP:20260420T220659
CREATED:20240730T225012Z
LAST-MODIFIED:20260421T000948Z
UID:10003165-1777311900-1777316400@www.kennebunklutheran.org
SUMMARY:Worship Committee (Zoom)
DESCRIPTION:
URL:https://www.kennebunklutheran.org/events/worship-committee-zoom/2026-04-27/
LOCATION:ME
END:VEVENT
BEGIN:VEVENT
DTSTART;TZID=America/New_York:20260426T110000
DTEND;TZID=America/New_York:20260426T120000
DTSTAMP:20260420T220659
CREATED:20260308T224901Z
LAST-MODIFIED:20260308T224901Z
UID:10003141-1777201200-1777204800@www.kennebunklutheran.org
SUMMARY:Deacons Meeting
DESCRIPTION:
URL:https://www.kennebunklutheran.org/events/deacons-meeting/
LOCATION:HCLC Luther Hall Office
END:VEVENT
BEGIN:VEVENT
DTSTART;TZID=America/New_York:20260426T101500
DTEND;TZID=America/New_York:20260426T104500
DTSTAMP:20260420T220659
CREATED:20260105T120442Z
LAST-MODIFIED:20260308T225709Z
UID:10002789-1777198500-1777200300@www.kennebunklutheran.org
SUMMARY:Children's Ministry
DESCRIPTION:Children’s Ministry during worship service for children ages 4-13
URL:https://www.kennebunklutheran.org/events/childrens-ministry-2/2026-04-26/
LOCATION:HCLC Luther Hall\, 2 Lord St Kennebunk\, ME 04043\, Kennebunk\, ME\, 04043\, United States
END:VEVENT
BEGIN:VEVENT
DTSTART;TZID=Asia/Karachi:20260426T100000
DTEND;TZID=Asia/Karachi:20260426T110000
DTSTAMP:20260420T220659
CREATED:20240501T183220Z
LAST-MODIFIED:20250909T231353Z
UID:10000179-1777197600-1777201200@www.kennebunklutheran.org
SUMMARY:Worship Service with Holy Communion
DESCRIPTION:Weekly worship service with Holy Communion. \nPlease join us for coffee hour after the service in Luther Hall.
URL:https://www.kennebunklutheran.org/events/worship-service-with-holy-communion/2026-04-26/
LOCATION:HCLC Sanctuary\, 2 Lord St\, Kennebunk\, ME\, 04043\, United States
END:VEVENT
BEGIN:VEVENT
DTSTART;TZID=Asia/Karachi:20260425T103000
DTEND;TZID=Asia/Karachi:20260425T120000
DTSTAMP:20260420T220659
CREATED:20240521T105641Z
LAST-MODIFIED:20260421T001750Z
UID:10003144-1777113000-1777118400@www.kennebunklutheran.org
SUMMARY:No Strings Attached Music Group
DESCRIPTION:
URL:https://www.kennebunklutheran.org/events/no-strings-attached-music-group-4/2026-04-25/
LOCATION:HCLC Luther Hall\, 2 Lord St Kennebunk\, ME 04043\, Kennebunk\, ME\, 04043\, United States
END:VEVENT
BEGIN:VEVENT
DTSTART;TZID=America/New_York:20260423T180000
DTEND;TZID=America/New_York:20260423T190000
DTSTAMP:20260420T220659
CREATED:20260419T110005Z
LAST-MODIFIED:20260419T110005Z
UID:10003164-1776967200-1776970800@www.kennebunklutheran.org
SUMMARY:New Member Class
DESCRIPTION:Are you considering becoming a member of Holy Cross or just interested in learning more about the church? \nThe class will take 1 hour and include Lutheran theology\, information about the church and a walking tour of the grounds. \nIf you are interested\, please speak to Pastor Amy or put your name on the sign-up sheet in the Narthex.  All are welcome whether you are interested in becoming a member\, are already a member\, or just want to learn more about Holy Cross.
URL:https://www.kennebunklutheran.org/events/new-member-class/2026-04-23/
LOCATION:HCLC Luther Hall Office
END:VEVENT
BEGIN:VEVENT
DTSTART;TZID=UTC:20260423T100000
DTEND;TZID=UTC:20260423T110000
DTSTAMP:20260420T220659
CREATED:20260316T182739Z
LAST-MODIFIED:20260316T182743Z
UID:10001484-1776938400-1776942000@www.kennebunklutheran.org
SUMMARY:Bible Study
DESCRIPTION:
URL:https://www.kennebunklutheran.org/events/bible-study-2/2026-04-23/
LOCATION:HCLC Luther Hall\, 2 Lord St Kennebunk\, ME 04043\, Kennebunk\, ME\, 04043\, United States
ATTACH;FMTTYPE=image/jpeg:https://www.kennebunklutheran.org/wp-content/uploads/2026/03/Bible-Study.jpg
END:VEVENT
BEGIN:VEVENT
DTSTART;TZID=America/New_York:20260421T170000
DTEND;TZID=America/New_York:20260421T183000
DTSTAMP:20260420T220659
CREATED:20260217T181913Z
LAST-MODIFIED:20260308T225443Z
UID:10003145-1776790800-1776796200@www.kennebunklutheran.org
SUMMARY:Communications Committee Meeting
DESCRIPTION:Luther Hall office
URL:https://www.kennebunklutheran.org/events/communications-committee-meeting/2026-04-21/
LOCATION:HCLC Luther Hall\, 2 Lord St Kennebunk\, ME 04043\, Kennebunk\, ME\, 04043\, United States
END:VEVENT
BEGIN:VEVENT
DTSTART;TZID=Asia/Karachi:20260421T100000
DTEND;TZID=Asia/Karachi:20260421T160000
DTSTAMP:20260420T220659
CREATED:20250909T230438Z
LAST-MODIFIED:20250909T230554Z
UID:10002005-1776765600-1776787200@www.kennebunklutheran.org
SUMMARY:Quilters
DESCRIPTION:
URL:https://www.kennebunklutheran.org/events/quilters-2/2026-04-21/
LOCATION:HCLC Luther Hall\, 2 Lord St Kennebunk\, ME 04043\, Kennebunk\, ME\, 04043\, United States
END:VEVENT
END:VCALENDAR