BEGIN:VCALENDAR
VERSION:2.0
PRODID:-//Holy Cross Lutheran Church - ECPv6.15.20//NONSGML v1.0//EN
CALSCALE:GREGORIAN
METHOD:PUBLISH
X-WR-CALNAME:Holy Cross Lutheran Church
X-ORIGINAL-URL:https://www.kennebunklutheran.org
X-WR-CALDESC:Events for Holy Cross Lutheran Church
REFRESH-INTERVAL;VALUE=DURATION:PT1H
X-Robots-Tag:noindex
X-PUBLISHED-TTL:PT1H
BEGIN:VTIMEZONE
TZID:Asia/Karachi
BEGIN:STANDARD
TZOFFSETFROM:+0500
TZOFFSETTO:+0500
TZNAME:PKT
DTSTART:20250101T000000
END:STANDARD
END:VTIMEZONE
BEGIN:VTIMEZONE
TZID:America/New_York
BEGIN:DAYLIGHT
TZOFFSETFROM:-0500
TZOFFSETTO:-0400
TZNAME:EDT
DTSTART:20250309T070000
END:DAYLIGHT
BEGIN:STANDARD
TZOFFSETFROM:-0400
TZOFFSETTO:-0500
TZNAME:EST
DTSTART:20251102T060000
END:STANDARD
BEGIN:DAYLIGHT
TZOFFSETFROM:-0500
TZOFFSETTO:-0400
TZNAME:EDT
DTSTART:20260308T070000
END:DAYLIGHT
BEGIN:STANDARD
TZOFFSETFROM:-0400
TZOFFSETTO:-0500
TZNAME:EST
DTSTART:20261101T060000
END:STANDARD
BEGIN:DAYLIGHT
TZOFFSETFROM:-0500
TZOFFSETTO:-0400
TZNAME:EDT
DTSTART:20270314T070000
END:DAYLIGHT
BEGIN:STANDARD
TZOFFSETFROM:-0400
TZOFFSETTO:-0500
TZNAME:EST
DTSTART:20271107T060000
END:STANDARD
END:VTIMEZONE
BEGIN:VEVENT
DTSTART;TZID=Asia/Karachi:20260419T100000
DTEND;TZID=Asia/Karachi:20260419T110000
DTSTAMP:20260422T124435
CREATED:20240501T183220Z
LAST-MODIFIED:20250909T231353Z
UID:10000178-1776592800-1776596400@www.kennebunklutheran.org
SUMMARY:Worship Service with Holy Communion
DESCRIPTION:Weekly worship service with Holy Communion. \nPlease join us for coffee hour after the service in Luther Hall.
URL:https://www.kennebunklutheran.org/events/worship-service-with-holy-communion/2026-04-19/
LOCATION:HCLC Sanctuary\, 2 Lord St\, Kennebunk\, ME\, 04043\, United States
END:VEVENT
BEGIN:VEVENT
DTSTART;TZID=America/New_York:20260419T101500
DTEND;TZID=America/New_York:20260419T104500
DTSTAMP:20260422T124435
CREATED:20260105T120442Z
LAST-MODIFIED:20260308T225709Z
UID:10002788-1776593700-1776595500@www.kennebunklutheran.org
SUMMARY:Children's Ministry
DESCRIPTION:Children’s Ministry during worship service for children ages 4-13
URL:https://www.kennebunklutheran.org/events/childrens-ministry-2/2026-04-19/
LOCATION:HCLC Luther Hall\, 2 Lord St Kennebunk\, ME 04043\, Kennebunk\, ME\, 04043\, United States
END:VEVENT
BEGIN:VEVENT
DTSTART;TZID=America/New_York:20260419T113000
DTEND;TZID=America/New_York:20260419T123000
DTSTAMP:20260422T124435
CREATED:20260419T110005Z
LAST-MODIFIED:20260419T110005Z
UID:10003163-1776598200-1776601800@www.kennebunklutheran.org
SUMMARY:New Member Class
DESCRIPTION:Are you considering becoming a member of Holy Cross or just interested in learning more about the church? \nThe class will take 1 hour and include Lutheran theology\, information about the church and a walking tour of the grounds. \nIf you are interested\, please speak to Pastor Amy or put your name on the sign-up sheet in the Narthex.  All are welcome whether you are interested in becoming a member\, are already a member\, or just want to learn more about Holy Cross.
URL:https://www.kennebunklutheran.org/events/new-member-class/2026-04-19/
LOCATION:HCLC Luther Hall Office
END:VEVENT
END:VCALENDAR