BEGIN:VCALENDAR
VERSION:2.0
PRODID:-//Holy Cross Lutheran Church - ECPv6.15.20//NONSGML v1.0//EN
CALSCALE:GREGORIAN
METHOD:PUBLISH
X-WR-CALNAME:Holy Cross Lutheran Church
X-ORIGINAL-URL:https://www.kennebunklutheran.org
X-WR-CALDESC:Events for Holy Cross Lutheran Church
REFRESH-INTERVAL;VALUE=DURATION:PT1H
X-Robots-Tag:noindex
X-PUBLISHED-TTL:PT1H
BEGIN:VTIMEZONE
TZID:Asia/Karachi
BEGIN:STANDARD
TZOFFSETFROM:+0500
TZOFFSETTO:+0500
TZNAME:PKT
DTSTART:20240101T000000
END:STANDARD
END:VTIMEZONE
BEGIN:VTIMEZONE
TZID:America/New_York
BEGIN:DAYLIGHT
TZOFFSETFROM:-0500
TZOFFSETTO:-0400
TZNAME:EDT
DTSTART:20240310T070000
END:DAYLIGHT
BEGIN:STANDARD
TZOFFSETFROM:-0400
TZOFFSETTO:-0500
TZNAME:EST
DTSTART:20241103T060000
END:STANDARD
BEGIN:DAYLIGHT
TZOFFSETFROM:-0500
TZOFFSETTO:-0400
TZNAME:EDT
DTSTART:20250309T070000
END:DAYLIGHT
BEGIN:STANDARD
TZOFFSETFROM:-0400
TZOFFSETTO:-0500
TZNAME:EST
DTSTART:20251102T060000
END:STANDARD
BEGIN:DAYLIGHT
TZOFFSETFROM:-0500
TZOFFSETTO:-0400
TZNAME:EDT
DTSTART:20260308T070000
END:DAYLIGHT
BEGIN:STANDARD
TZOFFSETFROM:-0400
TZOFFSETTO:-0500
TZNAME:EST
DTSTART:20261101T060000
END:STANDARD
END:VTIMEZONE
BEGIN:VEVENT
DTSTART;TZID=Asia/Karachi:20250325T100000
DTEND;TZID=Asia/Karachi:20250325T160000
DTSTAMP:20260419T194508
CREATED:20240502T212714Z
LAST-MODIFIED:20250716T110950Z
UID:10001949-1742896800-1742918400@www.kennebunklutheran.org
SUMMARY:Quilters
DESCRIPTION:
URL:https://www.kennebunklutheran.org/events/quilters/2025-03-25/
LOCATION:HCLC Luther Hall\, 2 Lord St Kennebunk\, ME 04043\, Kennebunk\, ME\, 04043\, United States
END:VEVENT
BEGIN:VEVENT
DTSTART;TZID=Asia/Karachi:20250325T170000
DTEND;TZID=Asia/Karachi:20250325T190000
DTSTAMP:20260419T194508
CREATED:20240502T213216Z
LAST-MODIFIED:20250615T232201Z
UID:10002357-1742922000-1742929200@www.kennebunklutheran.org
SUMMARY:Brownie Troop
DESCRIPTION:
URL:https://www.kennebunklutheran.org/events/brownie-troop/2025-03-25/
LOCATION:HCLC Luther Hall\, 2 Lord St Kennebunk\, ME 04043\, Kennebunk\, ME\, 04043\, United States
END:VEVENT
BEGIN:VEVENT
DTSTART;TZID=America/New_York:20250325T183000
DTEND;TZID=America/New_York:20250325T193000
DTSTAMP:20260419T194508
CREATED:20250301T001417Z
LAST-MODIFIED:20250301T001618Z
UID:10002320-1742927400-1742931000@www.kennebunklutheran.org
SUMMARY:The Unsung Women Heroes of the Bible
DESCRIPTION:The Unsung Women Heroes of the Bible\n\nMarch 25th 6:30 – 7:30 pm in Luther Hall\n\n\nThis is an evening Bible Study in honor of National Women’s History Month
URL:https://www.kennebunklutheran.org/events/the-unsung-women-hereos-of-the-bible/
LOCATION:HCLC Luther Hall\, 2 Lord St Kennebunk\, ME 04043\, Kennebunk\, ME\, 04043\, United States
END:VEVENT
END:VCALENDAR