BEGIN:VCALENDAR
VERSION:2.0
PRODID:-//Holy Cross Lutheran Church - ECPv6.15.20//NONSGML v1.0//EN
CALSCALE:GREGORIAN
METHOD:PUBLISH
X-WR-CALNAME:Holy Cross Lutheran Church
X-ORIGINAL-URL:https://www.kennebunklutheran.org
X-WR-CALDESC:Events for Holy Cross Lutheran Church
REFRESH-INTERVAL;VALUE=DURATION:PT1H
X-Robots-Tag:noindex
X-PUBLISHED-TTL:PT1H
BEGIN:VTIMEZONE
TZID:Asia/Karachi
BEGIN:STANDARD
TZOFFSETFROM:+0500
TZOFFSETTO:+0500
TZNAME:PKT
DTSTART:20240101T000000
END:STANDARD
END:VTIMEZONE
BEGIN:VTIMEZONE
TZID:America/New_York
BEGIN:DAYLIGHT
TZOFFSETFROM:-0500
TZOFFSETTO:-0400
TZNAME:EDT
DTSTART:20240310T070000
END:DAYLIGHT
BEGIN:STANDARD
TZOFFSETFROM:-0400
TZOFFSETTO:-0500
TZNAME:EST
DTSTART:20241103T060000
END:STANDARD
BEGIN:DAYLIGHT
TZOFFSETFROM:-0500
TZOFFSETTO:-0400
TZNAME:EDT
DTSTART:20250309T070000
END:DAYLIGHT
BEGIN:STANDARD
TZOFFSETFROM:-0400
TZOFFSETTO:-0500
TZNAME:EST
DTSTART:20251102T060000
END:STANDARD
BEGIN:DAYLIGHT
TZOFFSETFROM:-0500
TZOFFSETTO:-0400
TZNAME:EDT
DTSTART:20260308T070000
END:DAYLIGHT
BEGIN:STANDARD
TZOFFSETFROM:-0400
TZOFFSETTO:-0500
TZNAME:EST
DTSTART:20261101T060000
END:STANDARD
END:VTIMEZONE
BEGIN:VEVENT
DTSTART;TZID=Asia/Karachi:20250126T100000
DTEND;TZID=Asia/Karachi:20250126T110000
DTSTAMP:20260425T161701
CREATED:20240501T183220Z
LAST-MODIFIED:20250909T231353Z
UID:10000114-1737885600-1737889200@www.kennebunklutheran.org
SUMMARY:Worship Service with Holy Communion
DESCRIPTION:Weekly worship service with Holy Communion. \nPlease join us for coffee hour after the service in Luther Hall.
URL:https://www.kennebunklutheran.org/events/worship-service-with-holy-communion/2025-01-26/
LOCATION:HCLC Sanctuary\, 2 Lord St\, Kennebunk\, ME\, 04043\, United States
END:VEVENT
BEGIN:VEVENT
DTSTART;TZID=America/New_York:20250126T113000
DTEND;TZID=America/New_York:20250126T130000
DTSTAMP:20260425T161701
CREATED:20241201T213215Z
LAST-MODIFIED:20260105T115004Z
UID:10002239-1737891000-1737896400@www.kennebunklutheran.org
SUMMARY:Annual Church Meeting
DESCRIPTION:Members will vote on new Church Council members\, attendees to the New England Synod Convention\, and will discuss and approve the new year’s budget.
URL:https://www.kennebunklutheran.org/events/annual-church-meeting/
LOCATION:HCLC Sanctuary\, 2 Lord St\, Kennebunk\, ME\, 04043\, United States
END:VEVENT
END:VCALENDAR